BEGIN:VCALENDAR
PRODID:NingEventWidget-v1
VERSION:2.0
METHOD:PUBLISH
BEGIN:VEVENT
UID:4320450:Event:52052
DTSTAMP:20260425T144603Z
SUMMARY:Manayunk Harvest Fest in Pretzel Park
DESCRIPTION:Celebrate the fall season with us in Pretzel Park at our H
 arvest Fest in Pretzel Park! Bring your family and friends for seasona
 l activities including pumpkin carving, a scarecrow contest, and all t
 hings fall! When you’re not grabbing a bite to eat from the selectio
 n of food trucks and vendors on Silverwood Street, relax in the park a
 nd listen to live music from local artists. Be sure to also check out 
 the specials happening down on Main Street from Manayunk restaurants a
 nd retailers!\n\nFor more information visit http://phillytodo.com/even
 ts/manayunk-harvest-fest-in-pretzel-park
DTSTART:20171014T140000Z
DTEND:20171014T230000Z
CATEGORIES:harvest, festival
LOCATION:Pretzel Park
WEBSITE:http://manayunk.com/news-and-events/events/manayunk-harvest-fe
 st-in-pretzel-park.html
URL:http://manayunk.com/news-and-events/events/manayunk-harvest-fest-i
 n-pretzel-park.html
CONTACT:2154829565
ORGANIZER;CN="Manayunk Development Corporation":http://phillytodo.com/
 profile/ManayunkDevelopmentCorporation
ATTACH;FMTTYPE="image/jpeg":http://storage.ning.com/topology/rest/1.0/
 file/get/3055008111?profile=original
ATTENDEE;ROLE=REQ-PARTICIPANT;PARTSTAT=ACCEPTED;RSVP=TRUE;CN="Manayunk
  Development Corporation":http://phillytodo.com/profile/ManayunkDevelo
 pmentCorporation
END:VEVENT
END:VCALENDAR
