BEGIN:VCALENDAR
PRODID:NingEventWidget-v1
VERSION:2.0
METHOD:PUBLISH
BEGIN:VEVENT
UID:4320450:Event:42903
DTSTAMP:20260425T125850Z
SUMMARY:Manayunk Halloween Party Passport
DESCRIPTION:We've got your ultimate party pass for Halloween this year
 ! Join us as we take over Manayunk on Saturday, October 31st, with 5 b
 one-chillinginly FUN parties! Come out and join the rest of the ghostl
 y partygoers in Manayunk as we transform Main Street into one massive 
 party! Here's what’s in store - Open bars, Drink specials, costume c
 ontests, live music, and a guaranteed thrilling time!!\n \nTickets In
 clude:\n \n-No Cover \"Passport Access\" to 5  amazing halloween par
 ties in Manayunk\n-Mulitple DJs\n-Costume Contest with over $2500 in c
 ash & prizes\n \nGeneral Admission Tickets:\n-Your cover charge\n-Fir
 st drink free before 11pm (only if your ticket is bought in advance)\n
 -Fireball, Dr Mcgillicuddy's & other great drink specials from 8-11 PM
 \n \nVIP Open Bar Tickets:\n-Your cover charge\n-Light food buffet\n-
 VIP OPEN BAR from 8-11 PM\n-Beer, Wine, Premium Liquors (no shots)\n-P
 rivate VIP line\n-Multiple bars and bartenders for drinks!\n-Tons of c
 andy, festive decor, free giveaways, and halloween swag\n \nFor ticke
 ts and more information, head to: http://www.halloweentickets.com/?re
 f=ptodo\n\nFor more information visit http://phillytodo.com/events/man
 ayunk-halloween-party-passport
DTSTART:20151101T000000Z
DTEND:20151101T070000Z
CATEGORIES:halloween, party
LOCATION:Manayunk--multiple locations
WEBSITE:http://www.halloweentickets.com/?ref=ptodo
URL:http://www.halloweentickets.com/?ref=ptodo
CONTACT:
ORGANIZER;CN="UpcomingEvents.com":http://phillytodo.com/profile/Upcomi
 ngEventscom
ATTACH;FMTTYPE="image/jpeg":http://storage.ning.com/topology/rest/1.0/
 file/get/3054990364?profile=original
ATTENDEE;ROLE=REQ-PARTICIPANT;PARTSTAT=ACCEPTED;RSVP=TRUE;CN="Upcoming
 Events.com":http://phillytodo.com/profile/UpcomingEventscom
END:VEVENT
END:VCALENDAR
