BEGIN:VCALENDAR
PRODID:NingEventWidget-v1
VERSION:2.0
METHOD:PUBLISH
BEGIN:VEVENT
UID:4320450:Event:46758
DTSTAMP:20260425T124918Z
SUMMARY:Manayunk Fall Restaurant Week
DESCRIPTION:The Manayunk StrEAT Food Festival is a kickoff celebration
  to Manayunk Restaurant Week. Some of Manayunk’s finest eateries wil
 l be highlighting exclusive three course meals which will be offered a
 t $15, $25, and $35 price ranges. This is an affair that you don’t w
 ant to miss out on!\n\nFor more information visit http://phillytodo.co
 m/events/manayunk-fall-restaurant-week
DTSTART:20160919T040000Z
DTEND:20161001T035900Z
CATEGORIES:restaurant, week
LOCATION:Main Street in Manayunk
WEBSITE:http://manayunk.com/news-and-events/events/fall-streat-food-fe
 stival.html
URL:http://manayunk.com/news-and-events/events/fall-streat-food-festiv
 al.html
CONTACT:
ORGANIZER;CN="Manayunk Development Corporation":http://phillytodo.com/
 profile/ManayunkDevelopmentCorporation
ATTACH;FMTTYPE="image/jpeg":http://storage.ning.com/topology/rest/1.0/
 file/get/3054995374?profile=original
ATTENDEE;ROLE=REQ-PARTICIPANT;PARTSTAT=ACCEPTED;RSVP=TRUE;CN="Manayunk
  Development Corporation":http://phillytodo.com/profile/ManayunkDevelo
 pmentCorporation
END:VEVENT
END:VCALENDAR
