BEGIN:VCALENDAR
PRODID:NingEventWidget-v1
VERSION:2.0
METHOD:PUBLISH
BEGIN:VEVENT
UID:4320450:Event:58903
DTSTAMP:20260425T124905Z
SUMMARY:Manayunk Fall Restaurant Week
DESCRIPTION:Take a bite out of the changing of seasons in Manayunk whe
 n Fall Restaurant returns! Manayunk’s thriving food scene is be on d
 isplay as more than fifteen restaurants serve up dishes that can only 
 be tasted during the week event for fixed menu prices: $15, $25, and $
 35.\n\nFor more information visit http://phillytodo.com/events/manayun
 k-fall-restaurant-week-1
DTSTART:20190923T040000Z
DTEND:20190930T035900Z
CATEGORIES:dining
LOCATION:Main Street, Manayunk
WEBSITE:https://bit.ly/2NMR3Ls
URL:https://bit.ly/2NMR3Ls
CONTACT:
ORGANIZER;CN="Manayunk Development Corporation":http://phillytodo.com/
 profile/ManayunkDevelopmentCorporation
ATTACH;FMTTYPE="image/jpeg":https://storage.ning.com/topology/rest/1.0
 /file/get/3428010415?profile=original
ATTENDEE;ROLE=REQ-PARTICIPANT;PARTSTAT=ACCEPTED;RSVP=TRUE;CN="Manayunk
  Development Corporation":http://phillytodo.com/profile/ManayunkDevelo
 pmentCorporation
END:VEVENT
END:VCALENDAR
