BEGIN:VCALENDAR
PRODID:NingEventWidget-v1
VERSION:2.0
METHOD:PUBLISH
BEGIN:VEVENT
UID:4320450:Event:34965
DTSTAMP:20260425T131027Z
SUMMARY:Manayunk Craft Beer and Irish Whiskey Festival
DESCRIPTION:Welcome to the Manayunk Craft Beer and Irish Whiskey Festi
 val!  This is always a great time - and always sells out.  Enjoy un
 limited samples of 40+ incredible craft beers and 10+ Irish Whiskeys 
 along with Music and food - all included.  TICKETS SELLING FAST!Onl
 y a limited tickets are available (even more limited for VIP tickets) 
 to make sure it is not too crowded with no long lines for beer & food 
 - do not wait to buy them as they are sure to sell out fast!  TICKET 
 PRICES WILL INCREASE as we get closer to the event - buy now, save $$!
 A sampling of the breweries & whiskeys:  Southern Tier, Yards, Victor
 y, Weyerbacher, Six Point, Oskar Blues, Great Lakes, Crabbies, Jameson
 , Kronenbourg, and many more! \n\nFor more information visit http://p
 hillytodo.com/events/manayunk-craft-beer-and-irish-whiskey-festival
DTSTART:20131116T190000Z
DTEND:20131117T000000Z
CATEGORIES:tasting, whisky, educational, mixer, event, beers, open, ba
 r
LOCATION:Kildare's Irish Pub (Manayunk)
WEBSITE:http://www.upcomingevents.com/manayunk-craft-beer-whiskey-fest
 ival/ptodo/
URL:http://www.upcomingevents.com/manayunk-craft-beer-whiskey-festival
 /ptodo/
CONTACT:
ORGANIZER;CN="UpcomingEvents.com":http://phillytodo.com/profile/Upcomi
 ngEventscom
ATTACH;FMTTYPE="image/jpeg":http://storage.ning.com/topology/rest/1.0/
 file/get/3054967843?profile=original
ATTENDEE;ROLE=REQ-PARTICIPANT;PARTSTAT=ACCEPTED;RSVP=TRUE;CN="Upcoming
 Events.com":http://phillytodo.com/profile/UpcomingEventscom
END:VEVENT
END:VCALENDAR
