BEGIN:VCALENDAR
PRODID:NingEventWidget-v1
VERSION:2.0
METHOD:PUBLISH
BEGIN:VEVENT
UID:4320450:Event:61200
DTSTAMP:20260425T123414Z
SUMMARY:Manayunk Community Art Project
DESCRIPTION:**MASKS AND SOCIAL DISTANCING WILL BE ENFORCED**\nAs part 
 of the Stroll the Street pop-up we're hosting a community art project!
  Designed to be as accessible as possible, participants are invited to
  paint freely on a large communal canvas.\nThe material produced durin
 g the event is later deconstructed and repurposed into permanent art, 
 which will be designed and installed on the pillars of Cresson Street 
 by artist Mat Tomezsko. The resulting artwork is entirely collaborativ
 e and bears the mark of the community who made it\n\nFor more informat
 ion visit http://phillytodo.com/events/manayunk-community-art-project
DTSTART:20200924T190000Z
DTEND:20200925T000000Z
CATEGORIES:family, friendly, art
LOCATION:Cotton Street
WEBSITE:https://fb.me/e/2ZFIDJUvC
URL:https://fb.me/e/2ZFIDJUvC
CONTACT:
ORGANIZER;CN="Manayunk Development Corporation":http://phillytodo.com/
 profile/ManayunkDevelopmentCorporation
ATTACH;FMTTYPE="image/jpeg":https://storage.ning.com/topology/rest/1.0
 /file/get/7933158498?profile=original
ATTENDEE;ROLE=REQ-PARTICIPANT;PARTSTAT=ACCEPTED;RSVP=TRUE;CN="Manayunk
  Development Corporation":http://phillytodo.com/profile/ManayunkDevelo
 pmentCorporation
END:VEVENT
END:VCALENDAR
