BEGIN:VCALENDAR
PRODID:NingEventWidget-v1
VERSION:2.0
METHOD:PUBLISH
BEGIN:VEVENT
UID:4320450:Event:55970
DTSTAMP:20260425T112515Z
SUMMARY:Manayunk Cocktail Week
DESCRIPTION:Enjoy a week long celebration of the craft of the cocktail
 ! Visit your favorite participating Manayunk bars and restaurants and 
 take part in a variety of tastings, dinner pairings, parties, cocktail
  competitions, and happy hours! Must be 21 OR OVER to participate.\n
 \nFor more information visit http://phillytodo.com/events/manayunk-coc
 ktail-week-3
DTSTART:20181112T050000Z
DTEND:20181119T045900Z
CATEGORIES:cocktails, and, food
LOCATION:Main Street Manayunk
WEBSITE:https://bit.ly/2IOWPHD
URL:https://bit.ly/2IOWPHD
CONTACT:215-482-9565
ORGANIZER;CN="Manayunk Development Corporation":http://phillytodo.com/
 profile/ManayunkDevelopmentCorporation
ATTACH;FMTTYPE="image/jpeg":http://storage.ning.com/topology/rest/1.0/
 file/get/3055015696?profile=original
ATTENDEE;ROLE=REQ-PARTICIPANT;PARTSTAT=ACCEPTED;RSVP=TRUE;CN="Manayunk
  Development Corporation":http://phillytodo.com/profile/ManayunkDevelo
 pmentCorporation
END:VEVENT
END:VCALENDAR
