BEGIN:VCALENDAR
PRODID:NingEventWidget-v1
VERSION:2.0
METHOD:PUBLISH
BEGIN:VEVENT
UID:4320450:Event:52641
DTSTAMP:20260425T124906Z
SUMMARY:Manayunk Cocktail Week
DESCRIPTION:Enjoy a week-long celebration of the craft of the cocktail
 ! Visit your favorite participating Manayunk bars and restaurants and 
 take part in a variety of tastings, dinner pairings, parties, cocktail
  competitions, and happy hours! With 20 venues and over 100 events, th
 is is an event you don't wanna miss! Must be 21 OR OVER to participate
 .\n\nFor more information visit http://phillytodo.com/events/manayunk-
 cocktail-week-2
DTSTART:20171106T170000Z
DTEND:20171112T200000Z
CATEGORIES:cocktail, week
LOCATION:Main Street in Manayunk
WEBSITE:http://manayunk.com/news-and-events/events/manayunk-cocktail-w
 eek.html
URL:http://manayunk.com/news-and-events/events/manayunk-cocktail-week.
 html
CONTACT:(215) 482-9565
ORGANIZER;CN="Manayunk Development Corporation":http://phillytodo.com/
 profile/ManayunkDevelopmentCorporation
ATTACH;FMTTYPE="image/jpeg":http://storage.ning.com/topology/rest/1.0/
 file/get/3055009799?profile=original
ATTENDEE;ROLE=REQ-PARTICIPANT;PARTSTAT=ACCEPTED;RSVP=TRUE;CN="Manayunk
  Development Corporation":http://phillytodo.com/profile/ManayunkDevelo
 pmentCorporation
END:VEVENT
END:VCALENDAR
