BEGIN:VCALENDAR
PRODID:NingEventWidget-v1
VERSION:2.0
METHOD:PUBLISH
BEGIN:VEVENT
UID:4320450:Event:47609
DTSTAMP:20260425T123411Z
SUMMARY:Manayunk Cocktail Week
DESCRIPTION:Enjoy a weeklong celebration of the craft of the cocktail!
  Visit your favorite participating Manayunk bars and restaurants and t
 ake part in a variety of tastings, dinner pairings, parties, cocktail 
 competitions, and happy hours! Must be 21 OR OVER to participate.\n\nF
 or more information visit http://phillytodo.com/events/manayunk-cockta
 il-week-1
DTSTART:20161107T220000Z
DTEND:20161113T220000Z
CATEGORIES:specialty, cocktail, deals
LOCATION:Main Street Manayunk
WEBSITE:http://Enjoy a weeklong celebration of the craft of the cockta
 il! Visit your favorite participating Manayunk bars and restaurants an
 d take part in a variety of tastings, dinner pairings, parties, cockta
 il competitions, and happy hours! Must be 21 OR OVER to participate.
URL:http://Enjoy a weeklong celebration of the craft of the cocktail! 
 Visit your favorite participating Manayunk bars and restaurants and ta
 ke part in a variety of tastings, dinner pairings, parties, cocktail c
 ompetitions, and happy hours! Must be 21 OR OVER to participate.
CONTACT:267-270-3074
ORGANIZER;CN="Manayunk Development Corporation":http://phillytodo.com/
 profile/ManayunkDevelopmentCorporation
ATTACH;FMTTYPE="image/jpeg":
ATTENDEE;ROLE=REQ-PARTICIPANT;PARTSTAT=ACCEPTED;RSVP=TRUE;CN="Manayunk
  Development Corporation":http://phillytodo.com/profile/ManayunkDevelo
 pmentCorporation
END:VEVENT
END:VCALENDAR
