BEGIN:VCALENDAR
PRODID:NingEventWidget-v1
VERSION:2.0
METHOD:PUBLISH
BEGIN:VEVENT
UID:4320450:Event:45409
DTSTAMP:20260425T144246Z
SUMMARY:Manayunk Bridge Trail Celebration
DESCRIPTION:Join Manayunk.com, Destination Schuylkill River and var
 ious Main Street businesses for a FREE day of enjoying all that the tr
 ails and Manayunk have to offer! #onthecircuit Details:Manayunk Trai
 l Celebration: Saturday, April 16 10am – 3pm (Philadelphia side of 
 Cynwyd Heritage Trail @ Dupont Street)FREE CLASSES ON THE BRIDGE!• 1
 0am: Yoga by Hotbox Yoga (bring your own mat)• 11am - Group Run ac
 ross the Bridge sponsored byPHILADELPHIA RUNNER, Manayunk • 12 noon
 : Mini Boot Camp on the bridge sponsored byNever Give Up Training• 1
 pm: Crunch at Lunch by Goals Fit• 2pm: Barre by The Wall Cycling S
 tudioWhirled Peace Frozen Yogurt & Smoothies- Manayunk food truck wit
 h samples and yogurt for saleFor details go to: manayunk.com\n\nFor m
 ore information visit http://phillytodo.com/events/manayunk-bridge-tra
 il-celebration
DTSTART:20160416T140000Z
DTEND:20160416T190000Z
CATEGORIES:outdoor
LOCATION:Manayunk-Cynwyd Connector Bridge
WEBSITE:https://www.facebook.com/events/235276910156113/
URL:https://www.facebook.com/events/235276910156113/
CONTACT:
ORGANIZER;CN="Manayunk Development Corporation":http://phillytodo.com/
 profile/ManayunkDevelopmentCorporation
ATTACH;FMTTYPE="image/jpeg":
ATTENDEE;ROLE=REQ-PARTICIPANT;PARTSTAT=ACCEPTED;RSVP=TRUE;CN="Manayunk
  Development Corporation":http://phillytodo.com/profile/ManayunkDevelo
 pmentCorporation
END:VEVENT
END:VCALENDAR
