BEGIN:VCALENDAR
PRODID:NingEventWidget-v1
VERSION:2.0
METHOD:PUBLISH
BEGIN:VEVENT
UID:4320450:Event:36847
DTSTAMP:20260425T142645Z
SUMMARY:Manayunk Arts Festival
DESCRIPTION:Head to Manayunk on Saturday, June 21st and Sunday, June 2
 2nd for the 25th Annual Manayunk Arts Festival. The Manayunk Developme
 nt Corporation and Manayunk.com is proud to celebrate 25 years of pres
 enting the best variety of fine arts and crafts from across the county
 .  \nAs the largest outdoor juried arts festival in the tri-state are
 a, be a visitor amongst a crowd of collectors, buyers, and designers! 
 With the street closed to traffic, nearly300 artists will be lining Ma
 in Street showcasing their hand-made pieces varying from wood and scul
 ptures to glass and jewelry. In addition the Emerging Artist Tent is b
 ack for the third year in a row!  This tent specializes in a wide ran
 ge of young and local talent.\nIn addition to the artists, all restaur
 ants and retailers will be open for business! Manayunk is home to the 
 largest alfresco dining scene in the city, so make sure you grab a bit
 e to eat as well as take part in some additional shopping at all the s
 mall, local  businesses.  \nA rain or shine event, Manayunk is easil
 y accessible by train, bike, bus, or car.  \n\nFor more information v
 isit http://phillytodo.com/events/manayunk-arts-festival
DTSTART:20140621T150000Z
DTEND:20140622T230000Z
CATEGORIES:arts, festival
LOCATION:Main Street Manayunk
WEBSITE:http://www.manayunk.com
URL:http://www.manayunk.com
CONTACT:2154829565
ORGANIZER;CN="Manayunk.com":http://phillytodo.com/profile/Manayunkcom
ATTACH;FMTTYPE="image/jpeg":http://storage.ning.com/topology/rest/1.0/
 file/get/3054975700?profile=original
ATTENDEE;ROLE=REQ-PARTICIPANT;PARTSTAT=ACCEPTED;RSVP=TRUE;CN="Manayunk
 .com":http://phillytodo.com/profile/Manayunkcom
END:VEVENT
END:VCALENDAR
