BEGIN:VCALENDAR
PRODID:NingEventWidget-v1
VERSION:2.0
METHOD:PUBLISH
BEGIN:VEVENT
UID:4320450:Event:54789
DTSTAMP:20260425T125917Z
SUMMARY:Manayunk Arts Festival
DESCRIPTION:\nManayunk Development Corporation is pleased to announce 
 the Annual Manayunk Arts Festival. Every year we invite you to share i
 n the tradition of excellence at the tri-state's largest outdoor, juri
 ed arts festival. Celebrating the best variety of fine arts and crafts
  from across the country, nearly 200,000 collectors, buyers, and desig
 ners will visit Main Street for this event.\n\nFor more information vi
 sit http://phillytodo.com/events/manayunk-arts-festival-1
DTSTART:20180623T150000Z
DTEND:20180623T230000Z
CATEGORIES:art, festival
LOCATION:Main Street Manayunk
WEBSITE:http://manayunk.com/news-and-events/events/manayunk-arts-festi
 val.html
URL:http://manayunk.com/news-and-events/events/manayunk-arts-festival.
 html
CONTACT:215-482-9565
ORGANIZER;CN="Manayunk Development Corporation":http://phillytodo.com/
 profile/ManayunkDevelopmentCorporation
ATTACH;FMTTYPE="image/jpeg":http://storage.ning.com/topology/rest/1.0/
 file/get/3055011882?profile=original
ATTENDEE;ROLE=REQ-PARTICIPANT;PARTSTAT=ACCEPTED;RSVP=TRUE;CN="Manayunk
  Development Corporation":http://phillytodo.com/profile/ManayunkDevelo
 pmentCorporation
END:VEVENT
END:VCALENDAR
