BEGIN:VCALENDAR
PRODID:NingEventWidget-v1
VERSION:2.0
METHOD:PUBLISH
BEGIN:VEVENT
UID:4320450:Event:39665
DTSTAMP:20260425T160034Z
SUMMARY:Mala Making Workshop
DESCRIPTION:Learn the art of making a traditional Buddhist rosary. Bud
 dhist rosaries, called “malas,” are used during the practice of ma
 ntra recitation. Mantra is a Sanskrit word meaning “mind protection.
 ” Reciting mantras protects us from negative states of mind, drawing
  us closer to Buddha’s good qualities and allowing us to be more cal
 m and peaceful. Learn the beading techniques to make a traditional Bud
 dhist mala and begin your practice of mantra recitation. The mala you 
 make is yours to keep!\n\n$40. All beads and supplies will be provided
 . **Please pre-register on our website by March 7th.**\n\nTaught by Me
 ditation Teacher, Eve Miller. Eve is a senior student at Amitayus Kada
 mpa Buddhist Center and she has over 15 years of experience as a medit
 ator and teacher. She is an avid beader, knitter, crafter, shrine make
 r & mala maker.\n\nFor more information visit http://phillytodo.com/ev
 ents/mala-making-workshop
DTSTART:20150314T170000Z
DTEND:20150314T200000Z
CATEGORIES:crafts, beading, meditation, buddhism, art
LOCATION:Amitayus Kadampa Buddhist Center
WEBSITE:http://www.meditationinphiladelphia.org/mala-making-workshop/
URL:http://www.meditationinphiladelphia.org/mala-making-workshop/
CONTACT:267-702-3817
ORGANIZER:Amitayus Kadampa Buddhist Center
ATTACH;FMTTYPE="image/jpeg":http://storage.ning.com/topology/rest/1.0/
 file/get/3054982447?profile=original
ATTENDEE;ROLE=REQ-PARTICIPANT;PARTSTAT=ACCEPTED;RSVP=TRUE;CN="Educatio
 n Program Coordinator":http://phillytodo.com/profile/EducationProgramC
 oordinator
END:VEVENT
END:VCALENDAR
