BEGIN:VCALENDAR
PRODID:NingEventWidget-v1
VERSION:2.0
METHOD:PUBLISH
BEGIN:VEVENT
UID:4320450:Event:35872
DTSTAMP:20260425T190604Z
SUMMARY:\"Making Music in Egypt: a Conversation with Fathy Salama\"
DESCRIPTION:Al-Bustan Seeds of Culture presents Grammy award-winning c
 omposer and pianist Fathy Salama at the Penn Museum's Egypt (Sphinx) G
 allery. The artist will speak about his work, illustrating with short 
 musical interludes. Salama's work is truly global in scope. Rooted in 
 Egypt's Golden Age and Egyptian folk music, Salama's music incorporate
 s rhythmic traditions from the Far East, North Africa, and American ja
 zz. The artist has described his work this way; \"It is best to call i
 t the music of Fathy Salama.\" This event is free and open to the publ
 ic.\nReserve your free ticket today.\nReservations are encouraged, not
  required.\nMore information on the artist's full residency with Al-B
 ustan Music\n\n\n\nFor more information visit http://phillytodo.com/ev
 ents/making-music-in-egypt-a-conversation-with-fathy-salama
DTSTART:20140423T220000Z
DTEND:20140424T000000Z
CATEGORIES:musical, lecture
LOCATION:Penn Museum, Sphinx Gallery
WEBSITE:https://www.google.com/maps/place/University+of+Pennsylvania+M
 useum+of+Archaeology+and+Anthropology/@39.949234,-75.191378,17z/data=!
 3m2!4b1!5s0x89c6c65b140eb377:0xfbe3f98dc5bdfb35!4m2!3m1!1s0x89c6c65b1a
 bc62f5:0x502bc78cb25423fd
URL:https://www.google.com/maps/place/University+of+Pennsylvania+Museu
 m+of+Archaeology+and+Anthropology/@39.949234,-75.191378,17z/data=!3m2!
 4b1!5s0x89c6c65b140eb377:0xfbe3f98dc5bdfb35!4m2!3m1!1s0x89c6c65b1abc62
 f5:0x502bc78cb25423fd
CONTACT:267-809-3668
ORGANIZER;CN="Al-Bustan Seeds of Culture":http://phillytodo.com/profil
 e/AlBustanSeedsofCulture
ATTACH;FMTTYPE="image/jpeg":http://storage.ning.com/topology/rest/1.0/
 file/get/3054973497?profile=original
ATTENDEE;ROLE=REQ-PARTICIPANT;PARTSTAT=ACCEPTED;RSVP=TRUE;CN="Al-Busta
 n Seeds of Culture":http://phillytodo.com/profile/AlBustanSeedsofCultu
 re
END:VEVENT
END:VCALENDAR
