BEGIN:VCALENDAR
PRODID:NingEventWidget-v1
VERSION:2.0
METHOD:PUBLISH
BEGIN:VEVENT
UID:4320450:Event:31710
DTSTAMP:20260425T173731Z
SUMMARY:Make My Story-Book Come To Life!
DESCRIPTION:Join Coach Brenda Chadambura, from Kids Public Speaking Co
 ach (http://www.kidspeakshine.com/) and develop confidence through pub
 lic speaking!During Make My Storybook Come to Life, children will kids
  read their books out loud using public speaking principles (voice pro
 jection, tone, articulation etc). We will have a few set books to use
  for the workshop and will also encourage the kids to bring one of the
 ir favorite books each week. Goals: There is a strong connection bet
 ween reading well and speaking well. Therefore, the goal of the worksh
 op is to introduce public speaking skills in a fun and non-threatening
  way they can use in their daily lives and in school.Please call to re
 gister. (610-623-0239) \n\nFor more information visit http://phillyt
 odo.com/events/make-my-story-book-come-to-life-2
DTSTART:20130424T200000Z
DTEND:20130424T220000Z
CATEGORIES:public, speaking, children, library, class
LOCATION:Lansdowne Public Library
WEBSITE:http://www.lansdownepubliclibrary.com/
URL:http://www.lansdownepubliclibrary.com/
CONTACT:610-623-0239
ORGANIZER;CN="Lansdowne Public Library":http://phillytodo.com/profile/
 LansdownePublicLibrary
ATTACH;FMTTYPE="image/jpeg":http://storage.ning.com/topology/rest/1.0/
 file/get/3054963280?profile=original
ATTENDEE;ROLE=REQ-PARTICIPANT;PARTSTAT=ACCEPTED;RSVP=TRUE;CN="Lansdown
 e Public Library":http://phillytodo.com/profile/LansdownePublicLibrary
END:VEVENT
END:VCALENDAR
