BEGIN:VCALENDAR
PRODID:NingEventWidget-v1
VERSION:2.0
METHOD:PUBLISH
BEGIN:VEVENT
UID:4320450:Event:31623
DTSTAMP:20260425T125037Z
SUMMARY:Make and Enter A Poster Contest
DESCRIPTION:ART CONTEST!!  You will create a poster and enter it in T
 he Delaware County Conservation District Annual Poster Contest on the 
 theme Where Does Your Water Shed? Learn all about this important envir
 onmental subject!! Enjoy a HEALTHY SNACK TOO!!\n\nFor more information
  visit http://phillytodo.com/events/make-and-enter-a-poster-contest
DTSTART:20130429T203000Z
DTEND:20130429T223000Z
CATEGORIES:contest, library, arts, crafts, entertainment
LOCATION:Lansdowne Public Library
WEBSITE:http://www.lansdownepubliclibrary.com/
URL:http://www.lansdownepubliclibrary.com/
CONTACT:610-623-0239
ORGANIZER;CN="Lansdowne Public Library":http://phillytodo.com/profile/
 LansdownePublicLibrary
ATTACH;FMTTYPE="image/jpeg":http://storage.ning.com/topology/rest/1.0/
 file/get/3054965030?profile=original
ATTENDEE;ROLE=REQ-PARTICIPANT;PARTSTAT=ACCEPTED;RSVP=TRUE;CN="Lansdown
 e Public Library":http://phillytodo.com/profile/LansdownePublicLibrary
END:VEVENT
END:VCALENDAR
