BEGIN:VCALENDAR
PRODID:NingEventWidget-v1
VERSION:2.0
METHOD:PUBLISH
BEGIN:VEVENT
UID:4320450:Event:34719
DTSTAMP:20260425T160116Z
SUMMARY:Magner's Happy Hour
DESCRIPTION:In celebration of Apple Week, Magner's Cider is hosting a 
 happy hour at the Victoria Freehouse!  Specials to be announced.\n\nF
 or more information visit http://phillytodo.com/events/magner-s-happy-
 hour
DTSTART:20131025T200000Z
DTEND:20131025T230000Z
CATEGORIES:happy, hour
LOCATION:Victoria Freehouse
WEBSITE:http://www.victoriafreehouse.com
URL:http://www.victoriafreehouse.com
CONTACT:
ORGANIZER;CN="Punch Media":http://phillytodo.com/profile/PunchMedia
ATTACH;FMTTYPE="image/jpeg":http://storage.ning.com/topology/rest/1.0/
 file/get/3054967762?profile=original
ATTENDEE;ROLE=REQ-PARTICIPANT;PARTSTAT=ACCEPTED;RSVP=TRUE;CN="Punch Me
 dia":http://phillytodo.com/profile/PunchMedia
END:VEVENT
END:VCALENDAR
