BEGIN:VCALENDAR
PRODID:NingEventWidget-v1
VERSION:2.0
METHOD:PUBLISH
BEGIN:VEVENT
UID:4320450:Event:56620
DTSTAMP:20260425T112521Z
SUMMARY:Made in Philadelphia
DESCRIPTION:The Made in Philadelphia Holiday Market will once again tr
 ansform Dilworth Park into a holiday shopping wonderland from November
  17, 2018 to January 1, 2019. Over 50 artisans, designers, crafters an
 d confectionaries from the greater Philadelphia region will offer deco
 rations, gifts and holiday foods inside white, festively lit tents top
 ped with original Herrnhut Stars. Just feet away from the tents will b
 e the dazzling holiday Christmas Village Philadelphia Carousel delight
 ing children of all ages in the City Hall Courtyard. The Made in Phila
 delphia Holiday Market and the Christmas Carousel join the adjacent Wi
 ntergarden and Rothman Ice Rink as part of many holiday festivities su
 rrounding Center City this season. The open-air pop-up market is curat
 ed by organizers of Christmas Village in Philadelphia, which will set 
 up across the street in LOVE Park for its 11th season. The Made in Phi
 ladelphia Market is free to attend, with food and drink pay-as-you-go.
  Rides on the Christmas Village Carousel are $3.00 each. Daily hours a
 re Fridays and Saturdays, 11:00am to 8:00pm, and Sundays through Thurs
 days, 11:00am to 7:00pm. Holiday hours on Thanksgiving are 9:00am to 5
 :00pm, Black Friday 9:00am to 8:00pm and Christmas Eve 11:00am to 5:00
 pm. On Christmas Day the market is closed. For more information, visit
  http://www.madeinphila.com.\n\nFor more information visit http://phil
 lytodo.com/events/made-in-philadelphia
DTSTART:20181117T160000Z
DTEND:20190102T000000Z
CATEGORIES:festival
LOCATION:Dilworth Park
WEBSITE:http://madeinphila.com
URL:http://madeinphila.com
CONTACT:(267) 774-6404
ORGANIZER;CN="Aversa PR & Events":http://phillytodo.com/profile/KoryAv
 ersa277
ATTACH;FMTTYPE="image/jpeg":http://storage.ning.com/topology/rest/1.0/
 file/get/3055015969?profile=original
ATTENDEE;ROLE=REQ-PARTICIPANT;PARTSTAT=ACCEPTED;RSVP=TRUE;CN="Aversa P
 R & Events":http://phillytodo.com/profile/KoryAversa277
END:VEVENT
END:VCALENDAR
