BEGIN:VCALENDAR
PRODID:NingEventWidget-v1
VERSION:2.0
METHOD:PUBLISH
BEGIN:VEVENT
UID:4320450:Event:48237
DTSTAMP:20260425T130828Z
SUMMARY:Made in Philadelphia Holiday Market
DESCRIPTION:Philadelphia’s Dilworth Park will once again host the an
 nual Made in Philadelphia Holiday Market, open everyday from Saturday,
  November 19th through Saturday, December 24th (Christmas Eve). Visito
 rs will experience a charming winter bazaar with more than 30 local ve
 ndors festively lit tents featuring fashionable jewelry and clothes, u
 nique decorations and gifts, and a wide variety of locally-made sweets
  and food. The Rothman Ice Rink is conveniently located adjacent to th
 e Holiday Market. Daily hours are Fridays and Saturdays, 11am to 8pm, 
 and Sundays through Thursdays, 11am to 7pm. Holiday hours are Thanksgi
 ving 9am to 5pm, Black Friday 9am to 8pm, and Christmas Eve 11am to 5p
 m. For more information, visit http://www.madeinphila.com\n\nFor more 
 information visit http://phillytodo.com/events/made-in-philadelphia-ho
 liday-market
DTSTART:20161122T140000Z
DTEND:20161224T220000Z
CATEGORIES:holiday, market
LOCATION:Dilworth Park at City Hall
WEBSITE:http://www.philaholiday.com/vendors/
URL:http://www.philaholiday.com/vendors/
CONTACT:(215) 268-7606
ORGANIZER:Made in Philadelphia
ATTACH;FMTTYPE="image/jpeg":http://storage.ning.com/topology/rest/1.0/
 file/get/3055002180?profile=original
ATTENDEE;ROLE=REQ-PARTICIPANT;PARTSTAT=ACCEPTED;RSVP=TRUE;CN="Aversa P
 R & Events":http://phillytodo.com/profile/KoryAversa277
END:VEVENT
END:VCALENDAR
