BEGIN:VCALENDAR
PRODID:NingEventWidget-v1
VERSION:2.0
METHOD:PUBLISH
BEGIN:VEVENT
UID:4320450:Event:47170
DTSTAMP:20260425T112512Z
SUMMARY:Madden 17 Tournament
DESCRIPTION:Come out and join the tournament or watch and enjoy great 
 food and drink specials. Prizes and raffles presented by Miller Girls.
 Eagles ticket drawing for non-participants and a pair of Eagles ticket
 s for the tournament winner!\nTournament Food & Drink Specials:• $5 
 Classic burger and fries• $2.50 half order of boneless wings (During
  tournament)• $2 Miller Lite drafts and $2 Leinenkugals• $5 beer f
 lights• Unlimited soda and fries until eliminated from game\n32 Team
 s • 3 80” TVs • Great Prizes\nFREE to register!\nTo Register Ema
 il:madden@UpcomingEvents.com\n\nFor more information visit http://phil
 lytodo.com/events/madden-17-tournament
DTSTART:20160917T160000Z
DTEND:20160917T220000Z
CATEGORIES:sports
LOCATION:Tilted Kilt
WEBSITE:
URL:
CONTACT:
ORGANIZER;CN="UpcomingEvents.com":http://phillytodo.com/profile/Upcomi
 ngEventscom
ATTACH;FMTTYPE="image/jpeg":http://storage.ning.com/topology/rest/1.0/
 file/get/3054998293?profile=original
ATTENDEE;ROLE=REQ-PARTICIPANT;PARTSTAT=ACCEPTED;RSVP=TRUE;CN="Upcoming
 Events.com":http://phillytodo.com/profile/UpcomingEventscom
END:VEVENT
END:VCALENDAR
