BEGIN:VCALENDAR
PRODID:NingEventWidget-v1
VERSION:2.0
METHOD:PUBLISH
BEGIN:VEVENT
UID:4320450:Event:26008
DTSTAMP:20260425T142804Z
SUMMARY:Mad Men Premiere Viewing Party at Reserve
DESCRIPTION:Olde City’s New Hotspot Features Martini and Oyster Spec
 ials as homage to show\n \nDon Draper is BACK! The critically-acclaim
 ed series Mad Men is returning for its fifth season. In true “Sterli
 ng Cooper Draper Pryce” fashion, stop by Reserve’s Mad Men premier
 e viewing party for discounted Steakhouse Martinis (Bombay Sapphire, G
 lenlivet 12 year, and a twist) while indulging in Blue Point Oysters. 
 Watch on the big screen and recreate Don and Roger Sterling’s martin
 is-and-oysters lunch. Dress to impress, Joan Holloway-style.\n\nFor mo
 re information visit http://phillytodo.com/events/mad-men-premiere-vie
 wing-party-at-reserve
DTSTART:20120326T000000Z
DTEND:20120326T030000Z
CATEGORIES:special, event
LOCATION:RESERVE Restaurant, Bar and Lounge
WEBSITE:http://reservephilly.com
URL:http://reservephilly.com
CONTACT:
ORGANIZER:Becky
ATTACH;FMTTYPE="image/jpeg":http://storage.ning.com/topology/rest/1.0/
 file/get/3054958138?profile=original
ATTENDEE;ROLE=REQ-PARTICIPANT;PARTSTAT=ACCEPTED;RSVP=TRUE;CN="Becky L"
 :http://phillytodo.com/profile/BeckyL
END:VEVENT
END:VCALENDAR
