BEGIN:VCALENDAR
PRODID:NingEventWidget-v1
VERSION:2.0
METHOD:PUBLISH
BEGIN:VEVENT
UID:4320450:Event:41114
DTSTAMP:20260425T130701Z
SUMMARY:Macy’s Family Fun Day at AAMP: Juneteenth 150th Celebration!
DESCRIPTION:Juneteenth marks the date in 1865 when enslaved African Am
 ericans in Galveston, Texas (one of the furthest corners of the Confed
 erate South) learned that the Civil War had ended and they were now fr
 ee. Now, each year, people from across the globe gather on or around t
 his day to celebrate.\n \nVisit the African American Museum in Philad
 elphia on Saturday, June 20th, between 10am and 5pm, to experience exh
 ibits and artifacts, music and presentations about life during the Civ
 il War Era as well as costumed re-enactors and historians from the Uni
 ted States Colored Troops 3rd Regiment.\n \nGrab a bite to eat at one
  of our food trucks, then get your face painted or pick up a balloon a
 nimal on the way to arts and crafts, live performances and more in thi
 s indoor-outdoor day of family fun!\n\nFor more information visit http
 ://phillytodo.com/events/macy-s-family-fun-day-at-aamp-juneteenth-150t
 h-celebration
DTSTART:20150620T140000Z
DTEND:20150620T210000Z
CATEGORIES:museum, festival
LOCATION:African American Museum of Philadelphia
WEBSITE:
URL:
CONTACT:2156257988
ORGANIZER;CN="Skai Blue Media":http://phillytodo.com/profile/SkaiBlueM
 edia
ATTACH;FMTTYPE="image/jpeg":
ATTENDEE;ROLE=REQ-PARTICIPANT;PARTSTAT=ACCEPTED;RSVP=TRUE;CN="Skai Blu
 e Media":http://phillytodo.com/profile/SkaiBlueMedia
END:VEVENT
END:VCALENDAR
