BEGIN:VCALENDAR
PRODID:NingEventWidget-v1
VERSION:2.0
METHOD:PUBLISH
BEGIN:VEVENT
UID:4320450:Event:40653
DTSTAMP:20260425T160044Z
SUMMARY:Mac & Beer is Here
DESCRIPTION:Macaroni & Cheese...and Beer...PERFECT TOGETHER! Join us o
 n 4/23 from 5-9pm for tastings of ALL KINDS of mac and cheese from 12 
 different restaurants...and craft beer tastings from 8 different brewe
 ries.   Mexican, American, Indian, Greek...can you name how many diffe
 rent kinds of Mac and Cheese there are? Find out! Come to our MAC & BE
 ER IS HERE event! Tickets are $35.00. Over 21 only.\n\nFor more inform
 ation visit http://phillytodo.com/events/mac-beer-is-here
DTSTART:20150423T210000Z
DTEND:20150424T010000Z
CATEGORIES:beer, and, food, event
LOCATION:Scottish Rite Theatre
WEBSITE:
URL:
CONTACT:
ORGANIZER;CN="UpcomingEvents.com":http://phillytodo.com/profile/Upcomi
 ngEventscom
ATTACH;FMTTYPE="image/jpeg":http://storage.ning.com/topology/rest/1.0/
 file/get/3054987775?profile=original
ATTENDEE;ROLE=REQ-PARTICIPANT;PARTSTAT=ACCEPTED;RSVP=TRUE;CN="Upcoming
 Events.com":http://phillytodo.com/profile/UpcomingEventscom
END:VEVENT
END:VCALENDAR
