BEGIN:VCALENDAR
PRODID:NingEventWidget-v1
VERSION:2.0
METHOD:PUBLISH
BEGIN:VEVENT
UID:4320450:Event:49500
DTSTAMP:20260425T160033Z
SUMMARY:Lyfted
DESCRIPTION:\nAn evening of stories from our city's favorite Lyft driv
 ers. They'll take you on a ride, without even opening your car-share a
 pp.\nFeaturing an awesome line-up of Lyft drivers\nHosted by Hillary 
 Rea\nReserve $5 Tickets Here (no fees!):\nwww.goodgoodcomedy.com/lyfte
 d\nFRIDAY, MAY 26th at 7 PM\nat Good Good Comedy Theatre\n215 N. 11th
  St. (11th & Race)\nPart of Five Dollar Comedy Week!\nMay 21st - May 2
 7th\nwww.fivedollarcomedyweek.com\nPresented by Good Good Comedy Theat
 re\nwww.goodgoodcomedy.com\n\nFor more information visit http://philly
 todo.com/events/lyfted
DTSTART:20170526T230000Z
DTEND:20170527T000000Z
CATEGORIES:comedy, show, storytelling
LOCATION:Good Good Comedy Theatre
WEBSITE:http://goodgoodcomedy.com
URL:http://goodgoodcomedy.com
CONTACT:(215) 399-1279
ORGANIZER;CN="Hillary Rea":http://phillytodo.com/profile/HillaryRea
ATTACH;FMTTYPE="image/jpeg":http://storage.ning.com/topology/rest/1.0/
 file/get/3055002852?profile=original
ATTENDEE;ROLE=REQ-PARTICIPANT;PARTSTAT=ACCEPTED;RSVP=TRUE;CN="Hillary 
 Rea":http://phillytodo.com/profile/HillaryRea
END:VEVENT
END:VCALENDAR
