BEGIN:VCALENDAR
PRODID:NingEventWidget-v1
VERSION:2.0
METHOD:PUBLISH
BEGIN:VEVENT
UID:4320450:Event:56642
DTSTAMP:20260425T131358Z
SUMMARY:Lunch with Santa Cruises Aboard the Spirit of Philadelphia
DESCRIPTION:Yes, there is a Santa — and he’s planning a stop aboar
 d Spirit of Philadelphia to check out the awesome views from the water
 ! Delight the whole family with a special lunch with St. Nick himself.
  Everyone will love holiday music, kid-friendly treats and endless onb
 oard entertainment that brings the magical season to life.\n\nFor more
  information visit http://phillytodo.com/events/lunch-with-santa-cruis
 es-aboard-the-spirit-of-philadelphia
DTSTART:20181208T170000Z
DTEND:20181209T200000Z
CATEGORIES:cruise
LOCATION:Penn's Landing
WEBSITE:https://www.spiritcruises.com/philadelphia/cruises/holiday/san
 ta-lunch
URL:https://www.spiritcruises.com/philadelphia/cruises/holiday/santa-l
 unch
CONTACT:
ORGANIZER;CN="Bryan Chan":http://phillytodo.com/profile/BryanChan
ATTACH;FMTTYPE="image/jpeg":https://storage.ning.com/topology/rest/1.0
 /file/get/181970911?profile=original
ATTENDEE;ROLE=REQ-PARTICIPANT;PARTSTAT=ACCEPTED;RSVP=TRUE;CN="Bryan Ch
 an":http://phillytodo.com/profile/BryanChan
END:VEVENT
END:VCALENDAR
