BEGIN:VCALENDAR
PRODID:NingEventWidget-v1
VERSION:2.0
METHOD:PUBLISH
BEGIN:VEVENT
UID:4320450:Event:169907
DTSTAMP:20260425T112430Z
SUMMARY:Lunch &amp; Learn with Chandra DeBuse
DESCRIPTION:Chandra DeBuse is a ceramic artist making functional pott
 ery in Kansas City, MO. She incorporates a feeling of play and amuseme
 nt in her work by using narrative imagery, patterns and forms. Join Je
 nnifer Zwilling in talking with Chandra DeBuse about her inspiration a
 nd her process (and what's with all those squirrels?!). DeBuse’s pot
 tery is functional with narrative imagery, pattern and forms to amuse 
 and delight the user, imparting a sense of play. The approach in creat
 ing her work reflects make-believe imagination, characters and landsca
 pes of leisure. She uses bouncing lines, candy colors, low relief and 
 hand-drawn elements to encourage a sense of discovery and exploration.
  DeBuse's training in psychology and the experience working in a shelt
 er helped support the ideas of what she wanted her pottery to be. She 
 wants her ceramics to reflect uplifting moments and contribute to a pe
 rson’s positive outlook.\n\nFor more information visit http://philly
 todo.com/events/lunch-amp-learn-with-chandra-debuse
DTSTART:20211118T170000Z
DTEND:20211118T180000Z
CATEGORIES:lunch, and, learn, with, the, clay, studio
LOCATION:https://temple.zoom.us/j/98994273105
WEBSITE:https://www.theclaystudio.org/lunch-and-learn
URL:https://www.theclaystudio.org/lunch-and-learn
CONTACT:
ORGANIZER:The Clay Studio
ATTACH;FMTTYPE="image/jpeg":https://storage.ning.com/topology/rest/1.0
 /file/get/9770508295?profile=original
ATTENDEE;ROLE=REQ-PARTICIPANT;PARTSTAT=ACCEPTED;RSVP=TRUE;CN="Bryan Ch
 an":http://phillytodo.com/profile/BryanChan
END:VEVENT
END:VCALENDAR
