BEGIN:VCALENDAR
PRODID:NingEventWidget-v1
VERSION:2.0
METHOD:PUBLISH
BEGIN:VEVENT
UID:4320450:Event:116234
DTSTAMP:20260425T173602Z
SUMMARY:Lunch &amp; Learn: The Clay Studio Staff Highlight
DESCRIPTION:Join Jennifer Zwilling, Curator of Artistic Programs at Th
 e Clay Studio, and Nitza Rosario, Community Engagement Assistant, and 
 Shannon Jones, Education Assistant, as they discuss how The Clay Studi
 o continues to inspire and engage artists of all ages and skill levels
 . Don’t miss your opportunity to ask questions and hear about what i
 nspires them most in their work. Join the Zoom call to watch the live 
 discussion!\n\nFor more information visit http://phillytodo.com/events
 /lunch-amp-learn-the-clay-studio-staff-highlight
DTSTART:20210121T170000Z
DTEND:20210121T190000Z
CATEGORIES:virtual, discussion
LOCATION:Zoom (Virtual Event)
WEBSITE:https://temple.zoom.us/j/95598876975
URL:https://temple.zoom.us/j/95598876975
CONTACT:(215) 925-3453 x 23
ORGANIZER:Josie Bockelman
ATTACH;FMTTYPE="image/jpeg":https://storage.ning.com/topology/rest/1.0
 /file/get/8321653076?profile=original
ATTENDEE;ROLE=REQ-PARTICIPANT;PARTSTAT=ACCEPTED;RSVP=TRUE;CN="Bryan Ch
 an":http://phillytodo.com/profile/BryanChan
END:VEVENT
END:VCALENDAR
