BEGIN:VCALENDAR
PRODID:NingEventWidget-v1
VERSION:2.0
METHOD:PUBLISH
BEGIN:VEVENT
UID:4320450:Event:85598
DTSTAMP:20260425T142537Z
SUMMARY:Lunch &amp; Learn: Sugar Jaws
DESCRIPTION:Join Grace Tessein and Dennis Ritter, the artists behind S
 ugar Jaws, and Jennifer Zwilling, Curator of Artistic Programs at The 
 Clay Studio, for a Lunch & Learn on Thursday, November 5. Sugar Jaws, 
 owing its namesake to Dennis and Grace’s beloved dog, is a collabora
 tion through which beautiful animal-inspired pottery pieces are create
 d. The Sugar Jaws team, both alumni of The Clay Studio, will discuss t
 heir time at The Clay Studio, what they've both done since then, and w
 hat brought them to where they are today. Join the Zoom call to listen
  to the discussion and ask questions!\n\nFor more information visit ht
 tp://phillytodo.com/events/lunch-amp-learn-sugar-jaws
DTSTART:20201105T170000Z
DTEND:20201105T190000Z
CATEGORIES:virtual, discussion
LOCATION:Zoom (Virtual Event)
WEBSITE:https://temple.zoom.us/meeting/register/tJ0pde-prTMtH9SYuWdBdx
 JWsDnYYZhR9Aro?_x_zm_rtaid=Qmj3KL3cSFyNjYjV6ShbmQ.1603200563037.7cc53f
 bc16cbd7c82624db717084802c&amp;_x_zm_rhtaid=396
URL:https://temple.zoom.us/meeting/register/tJ0pde-prTMtH9SYuWdBdxJWsD
 nYYZhR9Aro?_x_zm_rtaid=Qmj3KL3cSFyNjYjV6ShbmQ.1603200563037.7cc53fbc16
 cbd7c82624db717084802c&amp;_x_zm_rhtaid=396
CONTACT:(215) 925-3453 x 23
ORGANIZER:Josie Bockelman
ATTACH;FMTTYPE="image/jpeg":https://storage.ning.com/topology/rest/1.0
 /file/get/8083488671?profile=original
ATTENDEE;ROLE=REQ-PARTICIPANT;PARTSTAT=ACCEPTED;RSVP=TRUE;CN="Bryan Ch
 an":http://phillytodo.com/profile/BryanChan
END:VEVENT
END:VCALENDAR
