BEGIN:VCALENDAR
PRODID:NingEventWidget-v1
VERSION:2.0
METHOD:PUBLISH
BEGIN:VEVENT
UID:4320450:Event:114590
DTSTAMP:20260425T141303Z
SUMMARY:Lunch &amp; Learn: Opening Celebration - Future Memories
DESCRIPTION:Join Jennifer Zwilling, Curator of Artistic Programs at Th
 e Clay Studio, and the former Resident Artists participating in The Cl
 ay Studio’s newest exhibition, “Future Memories.” The artists ha
 ve created works that explore the transformative nature of their Resid
 ency experience, and are inspired by their visions of the future durin
 g that time in their lives. Don’t miss your opportunity to ask the a
 rtists about their inspirations and thought processes, and how they lo
 ok back on their past goals and aspirations. Join the Zoom call to lis
 ten to the discussion!\n\nFor more information visit http://phillytodo
 .com/events/lunch-amp-learn-opening-celebration-future-memories
DTSTART:20210107T170000Z
DTEND:20210107T190000Z
CATEGORIES:virtual, discussion
LOCATION:Zoom (Virtual Event)
WEBSITE:https://temple.zoom.us/j/99231047315
URL:https://temple.zoom.us/j/99231047315
CONTACT:(215) 925-3453 x 23
ORGANIZER:Josie Bockelman
ATTACH;FMTTYPE="image/jpeg":https://storage.ning.com/topology/rest/1.0
 /file/get/8299835662?profile=original
ATTENDEE;ROLE=REQ-PARTICIPANT;PARTSTAT=ACCEPTED;RSVP=TRUE;CN="Bryan Ch
 an":http://phillytodo.com/profile/BryanChan
END:VEVENT
END:VCALENDAR
