BEGIN:VCALENDAR
PRODID:NingEventWidget-v1
VERSION:2.0
METHOD:PUBLISH
BEGIN:VEVENT
UID:4320450:Event:170407
DTSTAMP:20260425T173502Z
SUMMARY:Lunch &amp; Learn- New Resident Introductions
DESCRIPTION:During this Lunch & Learn, Jennifer Zwilling will introduc
 e three new residents at The Clay Studio: Minah Kim, Josephine Mette L
 arsen, and Akiko Jackson. Minah Kim is originally from South Korea and
  describes her work as simultaneously communicating physical gestures 
 of the process of working and thinking about internalized memories. Jo
 sephine Larsen has spent the last 10 years living periodically in both
  the U.S. and Europe. Larsen states the forefront of her practice is a
 ttentive to form, shape, line, and space which she believes is fundame
 ntal yet instrumental notions from which her hypotheses derive.  Akik
 o Jackson is from Kahuku, a rural north shore community on the island 
 of O'ahu, Hawai’i. Jackson is a multi-disciplinary artist, and she c
 onceptualizes her art practice through research, sculpture, and instal
 lation. Join the Zoom call to ask questions and listen in on the discu
 ssion!\n\nFor more information visit http://phillytodo.com/events/lunc
 h-amp-learn-new-resident-introductions
DTSTART:20220127T170000Z
DTEND:20220127T180000Z
CATEGORIES:luncheon, the, clay, studio, artists
LOCATION:https://temple.zoom.us/j/95285105683#success
WEBSITE:https://www.theclaystudio.org/lunch-and-learn
URL:https://www.theclaystudio.org/lunch-and-learn
CONTACT:
ORGANIZER;CN="Bryan Chan":http://phillytodo.com/profile/BryanChan
ATTACH;FMTTYPE="image/jpeg":https://storage.ning.com/topology/rest/1.0
 /file/get/10006475478?profile=original
ATTENDEE;ROLE=REQ-PARTICIPANT;PARTSTAT=ACCEPTED;RSVP=TRUE;CN="Bryan Ch
 an":http://phillytodo.com/profile/BryanChan
END:VEVENT
END:VCALENDAR
