BEGIN:VCALENDAR
PRODID:NingEventWidget-v1
VERSION:2.0
METHOD:PUBLISH
BEGIN:VEVENT
UID:4320450:Event:168517
DTSTAMP:20260425T123908Z
SUMMARY:“Lunch &amp; Learn”: George Rodriguez and Cesar Viveros fo
 r a Clay Fest Preview
DESCRIPTION:Join Jennifer Zwilling, Curator of Artistic Programming at
  The Clay Studio, along with artists George Rodriguez and Cesar Vivero
 s for a preview of The Clay Studio’s annual public event, Clay Fest,
  set to take place on September 18. Rodriguez and Viveros will share a
  preview of the community art projects they’ll provide for this spec
 ial event. This year, Clay Fest will take place in front of The Clay S
 tudio’s nearly completed new building at 1425 N. American Street. Jo
 in the Zoom call to ask questions and listen to the discussion.\nGeorg
 e Rodriguez is a Resident Artist at Tyler School of Art, Temple Univer
 sity. His work is shown all over the world in museums and exhibitions.
 \nCesar Viveros has spent over 15 years creating public art in the Uni
 ted States and his native Mexico and has collaborated with Mural Arts 
 since 1997.\n\nFor more information visit http://phillytodo.com/events
 /lunch-amp-learn-george-rodriguez-and-cesar-viveros-for-a-clay-1
DTSTART:20210916T160000Z
DTEND:20210916T190000Z
CATEGORIES:community, art
LOCATION:https://temple.zoom.us/j/92789788436
WEBSITE:https://www.theclaystudio.org/lunch-and-learn
URL:https://www.theclaystudio.org/lunch-and-learn
CONTACT:215-925-3453
ORGANIZER:The Clay Studio
ATTACH;FMTTYPE="image/jpeg":https://storage.ning.com/topology/rest/1.0
 /file/get/9550304477?profile=original
ATTENDEE;ROLE=REQ-PARTICIPANT;PARTSTAT=ACCEPTED;RSVP=TRUE;CN="Bryan Ch
 an":http://phillytodo.com/profile/BryanChan
END:VEVENT
END:VCALENDAR
