BEGIN:VCALENDAR
PRODID:NingEventWidget-v1
VERSION:2.0
METHOD:PUBLISH
BEGIN:VEVENT
UID:4320450:Event:114593
DTSTAMP:20260425T160232Z
SUMMARY:Lunch &amp; Learn: Don Nakamura
DESCRIPTION:Join Jennifer Zwilling, Curator of Artistic Programs at Th
 e Clay Studio, and Don Nakamura, an accomplished artist who creates hi
 s work at The Clay Studio. His solo exhibition, “Energized,” is no
 w on display, full of distinctly personal ceramics, incorporating both
  abstract and narrative approaches to his work. Nakamura will discuss 
 his career in art, and the energetic forms and images that make his wo
 rk unique. Join the Zoom call to watch the discussion and have the opp
 ortunity to ask questions live!\n\nFor more information visit http://p
 hillytodo.com/events/lunch-amp-learn-don-nakamura
DTSTART:20210114T170000Z
DTEND:20210114T190000Z
CATEGORIES:virtual, discussion
LOCATION:Zoom (Virtual Event)
WEBSITE:https://temple.zoom.us/j/95880715949
URL:https://temple.zoom.us/j/95880715949
CONTACT:(215) 925-3453 x 23
ORGANIZER:Josie Bockelman
ATTACH;FMTTYPE="image/jpeg":https://storage.ning.com/topology/rest/1.0
 /file/get/8299840262?profile=original
ATTENDEE;ROLE=REQ-PARTICIPANT;PARTSTAT=ACCEPTED;RSVP=TRUE;CN="Bryan Ch
 an":http://phillytodo.com/profile/BryanChan
END:VEVENT
END:VCALENDAR
