BEGIN:VCALENDAR
PRODID:NingEventWidget-v1
VERSION:2.0
METHOD:PUBLISH
BEGIN:VEVENT
UID:4320450:Event:105764
DTSTAMP:20260425T160041Z
SUMMARY:Lunch &amp; Learn: Alex Ferrante
DESCRIPTION:Join Alex Ferrante, current Zeldin Fellow Resident Artist,
  and Jennifer Zwilling, Curator of Artistic Programs at The Clay Stud
 io, for a Lunch & Learn on Thursday, December 3. Alex Ferrante has bee
 n spending his year-long Zeldin Fellowship exploring new artistic styl
 es and methods incorporated into his current exhibition at The Clay St
 udio entitled “Verging Paths, Verdant Ends.” Jennifer and Alex wil
 l discuss his solo exhibition, as well as his Zeldin Fellowship. Join 
 the Zoom call to listen to the discussion and ask questions!\n\nFor mo
 re information visit http://phillytodo.com/events/lunch-amp-learn-alex
 -ferrante
DTSTART:20201203T170000Z
DTEND:20201203T190000Z
CATEGORIES:virtual, discussion
LOCATION:Zoom (Virtual Event)
WEBSITE:https://temple.zoom.us/meeting/register/tJwucO6rrjotHt1ef_A_50
 ibazg2CkWNfv4d
URL:https://temple.zoom.us/meeting/register/tJwucO6rrjotHt1ef_A_50ibaz
 g2CkWNfv4d
CONTACT:(215) 925-3453 x 23
ORGANIZER:Josie Bockelman
ATTACH;FMTTYPE="image/jpeg":https://storage.ning.com/topology/rest/1.0
 /file/get/8207749295?profile=original
ATTENDEE;ROLE=REQ-PARTICIPANT;PARTSTAT=ACCEPTED;RSVP=TRUE;CN="Bryan Ch
 an":http://phillytodo.com/profile/BryanChan
END:VEVENT
END:VCALENDAR
