BEGIN:VCALENDAR
PRODID:NingEventWidget-v1
VERSION:2.0
METHOD:PUBLISH
BEGIN:VEVENT
UID:4320450:Event:4076
DTSTAMP:20260425T150054Z
SUMMARY:Lucky Old SOuls @ Moonstone: Lucas Brown Quartet and the Wade 
 Dean Enspiration
DESCRIPTION:Lucky Old Souls @ Moonstone is a monthly event, showcasing
  some of Philadelphia’s most creative musicians in a laid-back, BYOB
  venue that combines the intimacy of a club with a concert hall's resp
 ect for the music.\n\nFor more information visit http://phillytodo.com
 /events/lucky-old-souls-moonstone-1
DTSTART:20110212T020000Z
DTEND:20110212T043000Z
CATEGORIES:concert
LOCATION:Moonstone Arts Center in Center City
WEBSITE:http://luckyoldsouls.com
URL:http://luckyoldsouls.com
CONTACT:
ORGANIZER:Lucky Old Souls
ATTACH;FMTTYPE="image/jpeg":http://storage.ning.com/topology/rest/1.0/
 file/get/3054954556?profile=original
ATTENDEE;ROLE=REQ-PARTICIPANT;PARTSTAT=ACCEPTED;RSVP=TRUE;CN=Feldie:ht
 tp://phillytodo.com/profile/Feldie
END:VEVENT
END:VCALENDAR
