BEGIN:VCALENDAR
PRODID:NingEventWidget-v1
VERSION:2.0
METHOD:PUBLISH
BEGIN:VEVENT
UID:4320450:Event:3718
DTSTAMP:20260425T160206Z
SUMMARY:Lovesick Valentine
DESCRIPTION:Chocolates, cards, and flowers are not going to cut it thi
 s year! You need something that is sexy and romantic for your V-Day! A
 nd we've got it...\n\nYou have to do your shoot by December 17, but if
  you do you get 25% off our Classic and Glam packages and 50% off our 
 Lux and Signature packages! Which mean you'll have an amazingly sexy a
 lbum to give your sweetheart. Such a great special and great gift!\n\n
 Guys, you can also take advantage of this deal! Pick the package you w
 ant to give to your valentine and then once you give it to her she can
  schedule her shoot! She will have so much fun and get a huge confiden
 ce boost, and it will all be beacuse of you. Plus, you get the finishe
 d product, a sexy album of your hottie! Win, win, and... win.\nCall or
  e-mail Christina\n\nchristina@dollfacestudio.com or 215.684.2970\n\nF
 or more information visit http://phillytodo.com/events/lovesick-valent
 ine
DTSTART:20101201T050000Z
DTEND:20101218T045900Z
CATEGORIES:valentines, day, special
LOCATION:DollFace Studio
WEBSITE:http://dollfacestudio.com/
URL:http://dollfacestudio.com/
CONTACT:215.684.2970
ORGANIZER;CN="DollFace Studio":http://phillytodo.com/profile/DollFaceS
 tudio
ATTACH;FMTTYPE="image/jpeg":http://storage.ning.com/topology/rest/1.0/
 file/get/3054954076?profile=original
ATTENDEE;ROLE=REQ-PARTICIPANT;PARTSTAT=ACCEPTED;RSVP=TRUE;CN="DollFace
  Studio":http://phillytodo.com/profile/DollFaceStudio
END:VEVENT
END:VCALENDAR
