BEGIN:VCALENDAR
PRODID:NingEventWidget-v1
VERSION:2.0
METHOD:PUBLISH
BEGIN:VEVENT
UID:4320450:Event:1022
DTSTAMP:20260425T112601Z
SUMMARY:LOve.fashiON.murdER.
DESCRIPTION:Love â€“ Fashion â€“ Murder\n\nGive love the finger this V
 alentineâ€™s Day with a twisted fashion show, Illaphlave break-dancers
 , and DJ Jon Gill at Top Hat Bar and Lounge.\n\n\n\nPhiladelphia, PA â
 €” On Sunday, February 14 from 8 p.m.-2 a.m., join stylists Rene Quick
  (Lakshmi Hair Studio) and Jason Hallman (Art + Science Salon) forLove
 -Fashion-Murder, a theatrical fashion performance that will make you g
 lad you donâ€™t have a date.\n\n\n\nThe deadliest models on the east c
 oast outpost rock looks culled from Tony, Smak Parlour, and TK boutiqu
 es.Illaphlaveâ€™s break-dancers perform on the catwalk as the models d
 o a quick costume change into designs from Renee Masoomianâ€™s fetish 
 line, BabyLoveâ€™s Latex. An unexpectedly gory runway finale will make
  guests say WTF before DJ Jon Gill spins house, electro, â€˜80s, and d
 ance so guests can get their groove on.\n\n\n\n$5 Lionshead Beer and T
 hree Olives specialty cocktails are served all night. Hand picked VIPs
  enjoy free entry,an open bar, complementary champagne, and front row 
 seating away from the hoi polloi. Regular guests are asked to pay a $5
  cover at the door\n\nFor more information visit http://phillytodo.com
 /events/lovefashionmurder-1
DTSTART:20100215T010000Z
DTEND:20100215T070000Z
CATEGORIES:dance, fashion, party
LOCATION:Top Hat bar and Lounge
WEBSITE:http://www.lovefashionmurder.com
URL:http://www.lovefashionmurder.com
CONTACT:
ORGANIZER;CN="Rene Quick":http://phillytodo.com/profile/ReneQuick
ATTACH;FMTTYPE="image/jpeg":
ATTENDEE;ROLE=REQ-PARTICIPANT;PARTSTAT=ACCEPTED;RSVP=TRUE;CN="Rene Qui
 ck":http://phillytodo.com/profile/ReneQuick
END:VEVENT
END:VCALENDAR
