BEGIN:VCALENDAR
PRODID:NingEventWidget-v1
VERSION:2.0
METHOD:PUBLISH
BEGIN:VEVENT
UID:4320450:Event:36480
DTSTAMP:20260425T132534Z
SUMMARY:Love Your Park Crafts Day
DESCRIPTION:Love Your Park is a FREE Mother's Day event at Washington 
 Ave Green, hosted by the Friends of Washington Ave Green and part of t
 he Fairmount Park Conservancy's Love Your Park Week. Come out from 11A
 M-1PM for an early afternoon full of crafts, family activities and lun
 ch. Enjoy making crafts inspired by nature for the mom in your life.\n
 \nFor more information visit http://phillytodo.com/events/love-your-pa
 rk-crafts-day
DTSTART:20140510T150000Z
DTEND:20140510T170000Z
CATEGORIES:"mother's", day, crafts, waterfront
LOCATION:Washington Avenue Green
WEBSITE:http://www.delawareriverwaterfront.com/events/love-your-park
URL:http://www.delawareriverwaterfront.com/events/love-your-park
CONTACT:215-922-2386
ORGANIZER;CN="Delaware River Waterfront Corp.":http://phillytodo.com/p
 rofile/DelawareRiverWaterfrontCorp
ATTACH;FMTTYPE="image/jpeg":http://storage.ning.com/topology/rest/1.0/
 file/get/3054973835?profile=original
ATTENDEE;ROLE=REQ-PARTICIPANT;PARTSTAT=ACCEPTED;RSVP=TRUE;CN="Delaware
  River Waterfront Corp.":http://phillytodo.com/profile/DelawareRiverWa
 terfrontCorp
END:VEVENT
END:VCALENDAR
