BEGIN:VCALENDAR
PRODID:NingEventWidget-v1
VERSION:2.0
METHOD:PUBLISH
BEGIN:VEVENT
UID:4320450:Event:54928
DTSTAMP:20260425T131300Z
SUMMARY:Love Your Heart at Bernie Robbins Jewelers This Valentine’s 
 Day
DESCRIPTION:To honor February’s American Heart Month, Bernie Robbins
  Jeweler’s will be offering an exclusive commemorative heart pendant
  necklace with 100% of the proceeds directly benefiting the American 
 Heart Association. \n\nFor more information visit http://phillytodo.c
 om/events/love-your-heart-at-bernie-robbins-jewelers-this-valentine-s-
 day
DTSTART:20180201T050000Z
DTEND:20180301T045900Z
CATEGORIES:fundraiser
LOCATION:Bernie Robbins Jewelers
WEBSITE:https://www.bernierobbins.com/
URL:https://www.bernierobbins.com/
CONTACT:2156271060
ORGANIZER;CN=CashmanAssoc:http://phillytodo.com/profile/CashmanAssoc
ATTACH;FMTTYPE="image/jpeg":
ATTENDEE;ROLE=REQ-PARTICIPANT;PARTSTAT=ACCEPTED;RSVP=TRUE;CN=CashmanAs
 soc:http://phillytodo.com/profile/CashmanAssoc
END:VEVENT
END:VCALENDAR
