BEGIN:VCALENDAR
PRODID:NingEventWidget-v1
VERSION:2.0
METHOD:PUBLISH
BEGIN:VEVENT
UID:4320450:Event:33258
DTSTAMP:20260425T144321Z
SUMMARY:\"Love Seed Mama Jump\" Performs on Concert Stage
DESCRIPTION:Start your weekend off right as \"Love Seed Mama Jump\" pe
 rforms live on the outdoor concert stage.Contact parties@xfinitylive.c
 om to add your name to the guest list and to book your VIP Party for t
 he show.Free parking is available all day and night.\n\nFor more infor
 mation visit http://phillytodo.com/events/love-seed-mama-jump-performs
 -on-concert-stage
DTSTART:20130727T000000Z
DTEND:20130727T040000Z
CATEGORIES:xfinity, "live!", philadelphia
LOCATION:XFINITY Live! Philadelphia
WEBSITE:http://xfinitylive.com
URL:http://xfinitylive.com
CONTACT:215-609-1678
ORGANIZER;CN="Stepfanie McCaffrey":http://phillytodo.com/profile/Stepf
 anieMcCaffrey
ATTACH;FMTTYPE="image/jpeg":http://storage.ning.com/topology/rest/1.0/
 file/get/3054967370?profile=original
ATTENDEE;ROLE=REQ-PARTICIPANT;PARTSTAT=ACCEPTED;RSVP=TRUE;CN="Stepfani
 e McCaffrey":http://phillytodo.com/profile/StepfanieMcCaffrey
END:VEVENT
END:VCALENDAR
