BEGIN:VCALENDAR
PRODID:NingEventWidget-v1
VERSION:2.0
METHOD:PUBLISH
BEGIN:VEVENT
UID:4320450:Event:35611
DTSTAMP:20260425T125758Z
SUMMARY:Love Panel and Valentine's Party
DESCRIPTION:Invigorate your relationships.  Learn to embrace the peop
 le in your life with a warm and accommodating heart.  Come to a Valen
 tine’s Day celebration with a Buddhist Love Panel and fabulous desse
 rts.\n7:00-9:30pm\nBy donation.\nEveryone is welcome.\n\nFor more info
 rmation visit http://phillytodo.com/events/love-panel-and-valentine-s-
 party
DTSTART:20140215T000000Z
DTEND:20140215T023000Z
CATEGORIES:"valentine's", day, party, love, panel, buddhist, meditatio
 n
LOCATION:Amitayus Kadampa Buddhist Center
WEBSITE:http://meditationinphiladelphia.org/
URL:http://meditationinphiladelphia.org/
CONTACT:267-702-3817
ORGANIZER;CN="Education Program Coordinator":http://phillytodo.com/pro
 file/EducationProgramCoordinator
ATTACH;FMTTYPE="image/jpeg":
ATTENDEE;ROLE=REQ-PARTICIPANT;PARTSTAT=ACCEPTED;RSVP=TRUE;CN="Educatio
 n Program Coordinator":http://phillytodo.com/profile/EducationProgramC
 oordinator
END:VEVENT
END:VCALENDAR
