BEGIN:VCALENDAR
PRODID:NingEventWidget-v1
VERSION:2.0
METHOD:PUBLISH
BEGIN:VEVENT
UID:4320450:Event:35715
DTSTAMP:20260425T142606Z
SUMMARY:Love Is In The Air
DESCRIPTION:It’s that time of year again, when love is in the air an
 d wedding season is just around the corner! Join us for the bridal eve
 nt of the season where Uncommon Events and Stephen STARR Events have c
 ome together to create a unique bridal showcase of Philadelphia’s ta
 lent. Catered by Stephen STARR events, guests will be provided with ta
 sty treats throughout the evening as they observe the presentations of
  fellow hosts Elizabeth Johns Bridal, Tiffany & Co. and The Papery. Ki
 ndly reply by Thursday, Feb. 20 to Ashley.Gay@starr-restaurant.com.\n\
 nFor more information visit http://phillytodo.com/events/love-is-in-th
 e-air
DTSTART:20140227T230000Z
DTEND:20140228T010000Z
CATEGORIES:bridal, showcase
LOCATION:The Horticulture Center at Fairmount Park
WEBSITE:
URL:
CONTACT:
ORGANIZER:
ATTACH;FMTTYPE="image/jpeg":
ATTENDEE;ROLE=REQ-PARTICIPANT;PARTSTAT=ACCEPTED;RSVP=TRUE;CN=CashmanAs
 soc:http://phillytodo.com/profile/CashmanAssoc
END:VEVENT
END:VCALENDAR
