BEGIN:VCALENDAR
PRODID:NingEventWidget-v1
VERSION:2.0
METHOD:PUBLISH
BEGIN:VEVENT
UID:4320450:Event:1988
DTSTAMP:20260425T130714Z
SUMMARY:Lou Neglias Ring of Combat 32 VIP Experience
DESCRIPTION:3 Day VIP Ticket includes VIP PARTY FRIDAY NIGHT\n\n* Comp
 etitions up to 16 sports for only 1 ticket\n* 2 VIP Parties with food 
 and 1st drink\n* Friday Night Muay Thia Fight Night\n* Lou Neglias Rin
 g of Combat 32\n* Celebrities \" from all over the world we have Super
 stars for you to meet\"\n* Vendors \"up to 100 Companies with the late
 st gear and supplements\"\n* Breakfast with Champions on Sunday Mornin
 g with Autographs.\n\nFor more information visit http://phillytodo.com
 /events/lou-neglias-ring-of-combat-32
DTSTART:20101022T220000Z
DTEND:20101024T230000Z
CATEGORIES:multi, sport, and, celebrity, vip, event
LOCATION:Trump Taj Mahal Main Arena
WEBSITE:http://www.regonline.com/Checkin.asp?EventId=850556
URL:http://www.regonline.com/Checkin.asp?EventId=850556
CONTACT:609-923-2663
ORGANIZER:9th annual MMA and Sports Extravaganza
ATTACH;FMTTYPE="image/jpeg":http://storage.ning.com/topology/rest/1.0/
 file/get/3054950085?profile=original
ATTENDEE;ROLE=REQ-PARTICIPANT;PARTSTAT=ACCEPTED;RSVP=TRUE;CN="Paul Mil
 es":http://phillytodo.com/profile/PaulMiles
ATTENDEE;ROLE=REQ-PARTICIPANT;PARTSTAT=ACCEPTED;RSVP=TRUE;CN="james je
 fferson":http://phillytodo.com/profile/jamesjefferson
END:VEVENT
END:VCALENDAR
