BEGIN:VCALENDAR
PRODID:NingEventWidget-v1
VERSION:2.0
METHOD:PUBLISH
BEGIN:VEVENT
UID:4320450:Event:33074
DTSTAMP:20260425T210932Z
SUMMARY:\"Lost In Paris\" Performs on Concert Stage
DESCRIPTION:Join us for Philly's BIGGEST party as \"Lost In Paris\" pe
 rforms live on the outdoor concert stage starting at 8pm.Contact parti
 es@xfinitylive.com to add your name to the guest list and to book your
  VIP Party during the show.Free parking is available after 7:30pm.\n\n
 For more information visit http://phillytodo.com/events/lost-in-paris-
 performs-on-concert-stage
DTSTART:20130721T000000Z
DTEND:20130721T040000Z
CATEGORIES:live, music
LOCATION:XFINITY Live! Philadelphia
WEBSITE:http://www.xfinitylive.com
URL:http://www.xfinitylive.com
CONTACT:215-609-1678
ORGANIZER;CN="Stepfanie McCaffrey":http://phillytodo.com/profile/Stepf
 anieMcCaffrey
ATTACH;FMTTYPE="image/jpeg":http://storage.ning.com/topology/rest/1.0/
 file/get/3054966389?profile=original
ATTENDEE;ROLE=REQ-PARTICIPANT;PARTSTAT=ACCEPTED;RSVP=TRUE;CN="Stepfani
 e McCaffrey":http://phillytodo.com/profile/StepfanieMcCaffrey
END:VEVENT
END:VCALENDAR
