BEGIN:VCALENDAR
PRODID:NingEventWidget-v1
VERSION:2.0
METHOD:PUBLISH
BEGIN:VEVENT
UID:4320450:Event:33807
DTSTAMP:20260425T173601Z
SUMMARY:\"Lost in Paris\" Performs on Concert Stage
DESCRIPTION:Start your week off right as \"Lost in Paris\" performs li
 ve on the outdoor concert stage.Contact parties@xfinitylive.com to a
 dd your name to the guest list and to book your VIP Party for the show
 .Free parking is available all day and night.\n\nFor more information 
 visit http://phillytodo.com/events/lost-in-paris-performs-on-concert-s
 tage-1
DTSTART:20130814T000000Z
DTEND:20130814T060000Z
CATEGORIES:live, music
LOCATION:XFINITY Live! Philadelphia
WEBSITE:http://xfinitylive.com
URL:http://xfinitylive.com
CONTACT:215-609-1678
ORGANIZER;CN="Stepfanie McCaffrey":http://phillytodo.com/profile/Stepf
 anieMcCaffrey
ATTACH;FMTTYPE="image/jpeg":http://storage.ning.com/topology/rest/1.0/
 file/get/3054967136?profile=original
ATTENDEE;ROLE=REQ-PARTICIPANT;PARTSTAT=ACCEPTED;RSVP=TRUE;CN="Stepfani
 e McCaffrey":http://phillytodo.com/profile/StepfanieMcCaffrey
END:VEVENT
END:VCALENDAR
