BEGIN:VCALENDAR
PRODID:NingEventWidget-v1
VERSION:2.0
METHOD:PUBLISH
BEGIN:VEVENT
UID:4320450:Event:36082
DTSTAMP:20260425T125014Z
SUMMARY:Log Cabin Quilt Pillow Workshop
DESCRIPTION:If you've ever wanted to learn the basics of using a sewin
 g machine and quilting this workshop is for you! In just three hours y
 our will learn what you need to make a small throw pillow to take home
  with you at the end of the workshop.\n\nFor more information visit ht
 tp://phillytodo.com/events/log-cabin-quilt-pillow-workshop
DTSTART:20140419T150000Z
DTEND:20140419T180000Z
CATEGORIES:workshop
LOCATION:Portside Arts Center
WEBSITE:http://www.portsideartscenter.org
URL:http://www.portsideartscenter.org
CONTACT:215.427.1514
ORGANIZER;CN="Portside Arts Center":http://phillytodo.com/profile/Port
 sideArtsCenter
ATTACH;FMTTYPE="image/jpeg":http://storage.ning.com/topology/rest/1.0/
 file/get/3054974281?profile=original
ATTENDEE;ROLE=REQ-PARTICIPANT;PARTSTAT=ACCEPTED;RSVP=TRUE;CN="Portside
  Arts Center":http://phillytodo.com/profile/PortsideArtsCenter
END:VEVENT
END:VCALENDAR
