BEGIN:VCALENDAR
PRODID:NingEventWidget-v1
VERSION:2.0
METHOD:PUBLISH
BEGIN:VEVENT
UID:4320450:Event:27625
DTSTAMP:20260425T150203Z
SUMMARY:Locked in the Cage XI (11)
DESCRIPTION:Locked in the Cage is coming back to Philadelphia with ano
 ther stacked MMA fight card. The very best local MMA fighters are goin
 g to battle it out in a cage. Alcohol will be sold at this event, must
  show ID.\n\nFor more information visit http://phillytodo.com/events/l
 ocked-in-the-cage-xi-11
DTSTART:20121006T230000Z
DTEND:20121007T030000Z
CATEGORIES:mixed, martial, arts, event
LOCATION:Port Richmond area
WEBSITE:https://maps.google.com/maps?q=3824+Jasper+Street,+Philadelphi
 a,+PA&hl=en&ll=40.004657,-75.096016&spn=0.009204,0.01929&sll=40.002498
 ,-75.118033&sspn=0.307174,0.617294&oq=3824+Jasper+&hnear=3824+Jasper+S
 t,+Philadelphia,+Pennsylvania+19124&t=m&z=16&layer=c&cbll=40.003897,-7
 5.097304&panoid=KvTFiQ95MUqUpArfZ2Iw5A&cbp=12,20.96,,0,0
URL:https://maps.google.com/maps?q=3824+Jasper+Street,+Philadelphia,+P
 A&hl=en&ll=40.004657,-75.096016&spn=0.009204,0.01929&sll=40.002498,-75
 .118033&sspn=0.307174,0.617294&oq=3824+Jasper+&hnear=3824+Jasper+St,+P
 hiladelphia,+Pennsylvania+19124&t=m&z=16&layer=c&cbll=40.003897,-75.09
 7304&panoid=KvTFiQ95MUqUpArfZ2Iw5A&cbp=12,20.96,,0,0
CONTACT:267 216 7438
ORGANIZER:Fran Evans
ATTACH;FMTTYPE="image/jpeg":http://storage.ning.com/topology/rest/1.0/
 file/get/3054960101?profile=original
ATTENDEE;ROLE=REQ-PARTICIPANT;PARTSTAT=ACCEPTED;RSVP=TRUE;CN="Kyle Hol
 dsworth":http://phillytodo.com/profile/KyleHoldsworth
END:VEVENT
END:VCALENDAR
