BEGIN:VCALENDAR
PRODID:NingEventWidget-v1
VERSION:2.0
METHOD:PUBLISH
BEGIN:VEVENT
UID:4320450:Event:3093
DTSTAMP:20260425T130432Z
SUMMARY:Locked in the Cage VI
DESCRIPTION:Bentley Promotions presents Locked in the Cage VI. Come en
 joy an action packed night of cage fights with Philly's top fighters. 
 We have a total of fifteen fights including six pro fights. The main e
 vent is for a title of the middleweight champion! Tickets can be purch
 ased at the door, online at www.lockedinthecage.com or through Fran Ev
 ans 267-216-7438. Doors open at 7:00 p.m. Food and Beer will be sold!\
 n\nFor more information visit http://phillytodo.com/events/locked-in-t
 he-cage-vi
DTSTART:20101204T000000Z
DTEND:20101204T040000Z
CATEGORIES:mma, cage, fights
LOCATION:The National Guard Armory
WEBSITE:
URL:
CONTACT:267-216-7438
ORGANIZER;CN="Fran Evans":http://phillytodo.com/profile/FranEvans
ATTACH;FMTTYPE="image/jpeg":http://storage.ning.com/topology/rest/1.0/
 file/get/3054957790?profile=original
ATTENDEE;ROLE=REQ-PARTICIPANT;PARTSTAT=ACCEPTED;RSVP=TRUE;CN="Fran Eva
 ns":http://phillytodo.com/profile/FranEvans
END:VEVENT
END:VCALENDAR
