BEGIN:VCALENDAR
PRODID:NingEventWidget-v1
VERSION:2.0
METHOD:PUBLISH
BEGIN:VEVENT
UID:4320450:Event:41010
DTSTAMP:20260425T162712Z
SUMMARY:Local Plant Dyeing Hike: Foraging & Extracting Color
DESCRIPTION:Learn to use plants to produce natural dyes.Â  Elissa Meye
 rs and Mira Adornetto ofBLUEREDYELLOWÂ will lead a two-part workshop a
 bout natural dyeing.Â  The series starts with a hike to identify and c
 ollect plants. Â OnÂ day twoÂ weâ€™ll talk about the history of these 
 plants and dye fabrics with the collected material.Â  Bring a lunch on
  Saturday.Â Â Pre-registration required.\nParticipants will take away 
 worksheets, samples, and a silk scarf dyed with the plants collected o
 n the hike.\nTwo part course:Friday, July 17, Foraging Hike | 6:00 pm 
 â€“ 8:00 pmSaturday, July 18, Dyeing WorkshopÂ | 10:00 am â€“ 3:00 pm\
 n$20 Hike only, $60 Workshop.Â  Both sessions: $75. Â Register onlineÂ
  now.\nAt this foraging hike:Weâ€™ll learn all about how to identify c
 ommon dye plants and when and how to collect them, plus, weâ€™ll gathe
 rÂ material to use on Saturday.\n\nFor more information visit http://p
 hillytodo.com/events/local-plant-dyeing-hike-foraging-extracting-color
DTSTART:20150717T220000Z
DTEND:20150718T000000Z
CATEGORIES:art, workshop
LOCATION:Schuylkill Center for Environmental Education
WEBSITE:http://www.schuylkillcenter.org/blog/event/local-plant-dyeing-
 foraging-extracting-color-hike/
URL:http://www.schuylkillcenter.org/blog/event/local-plant-dyeing-fora
 ging-extracting-color-hike/
CONTACT:215-482-7300, x110
ORGANIZER;CN="The Schuylkill Center":http://phillytodo.com/profile/Ann
 aLehrMueser
ATTACH;FMTTYPE="image/jpeg":http://storage.ning.com/topology/rest/1.0/
 file/get/3054988332?profile=original
ATTENDEE;ROLE=REQ-PARTICIPANT;PARTSTAT=ACCEPTED;RSVP=TRUE;CN="The Schu
 ylkill Center":http://phillytodo.com/profile/AnnaLehrMueser
END:VEVENT
END:VCALENDAR
