BEGIN:VCALENDAR
PRODID:NingEventWidget-v1
VERSION:2.0
METHOD:PUBLISH
BEGIN:VEVENT
UID:4320450:Event:46706
DTSTAMP:20260425T123650Z
SUMMARY:Living Well with 3000BC & Jolene Hart
DESCRIPTION:Learn how to care for your body from the inside out with t
 ips from the skin experts at 3000BC and beauty & health coach and auth
 or Jolene Hart. Enjoy a reading from Jolene’s latest book, Eat Prett
 y, Live Well, receive free skin analyses and get one-night-only specia
 ls on packages at 3000BC!\n\nRSVP To:\nrsvp@cashmanandassociates.com 
 or www.cashmanandassociates.com/rsvp\n\nFor more information visit ht
 tp://phillytodo.com/events/living-well-with-3000bc-jolene-hart
DTSTART:20160615T220000Z
DTEND:20160616T000000Z
CATEGORIES:book, signing
LOCATION:3000BC WellMed Spa
WEBSITE:
URL:
CONTACT:
ORGANIZER:3000BC WellMed Spa
ATTACH;FMTTYPE="image/jpeg":http://storage.ning.com/topology/rest/1.0/
 file/get/3054995633?profile=original
ATTENDEE;ROLE=REQ-PARTICIPANT;PARTSTAT=ACCEPTED;RSVP=TRUE;CN=CashmanAs
 soc:http://phillytodo.com/profile/CashmanAssoc
END:VEVENT
END:VCALENDAR
