BEGIN:VCALENDAR
PRODID:NingEventWidget-v1
VERSION:2.0
METHOD:PUBLISH
BEGIN:VEVENT
UID:4320450:Event:168214
DTSTAMP:20260425T123651Z
SUMMARY:Living Meaningfully, Dying Joyfully: A Buddhist Perspective on
  Death &amp; Dying to Help Ourselves and Others
DESCRIPTION:Via Zoom livestream.  Register at https://www.meditationi
 nphiladelphia.org/living-meaningfullydyingjoyfully/\nBuddha taught pra
 ctices to transform every facet of our lives into the spiritual path. 
 Did you know he also taught how to transform death and dying? In this 
 unusual course we will learn to demystify and remove fear from the pro
 cess of dying, and how to use the death process to propel our mind int
 o a pure and peaceful state of existence.  This course will also offe
 r advice on how to help others maintain a peaceful & positive mind, fr
 eedom from fear, and to move their mind towards enlightenment as they 
 navigate the death process. Everyone is welcome.\n\nAbout the teacher:
  Gen Kelsang Chogyop is a Buddhist nun and a close disciple of Venerab
 le Geshe Kelsang Gyatso Rinpoche. She is the main teacher at Kadampa M
 editation Center Philadelphia. Gen Chogyop has been studying and teach
 ing Kadampa Buddhism for more than 20 years, and is known for her warm
  heart, practical teachings and sincere practice of Dharma. She provid
 es an inspiring example of a modern Buddhist practitioner.\nThrough em
 phasizing the Bodhisattva’s way of life, she encourages all the stud
 ents at the center to bring their practice of Buddha’s teachings int
 o their daily lives, bringing joy to as many people as possible.\n\nSc
 hedule:\nSession 1: 10am - 11:15am\nSession 2: 11:45am - 1:00pm\n\n$25
 . \n\nFor more information visit http://phillytodo.com/events/living-
 meaningfully-dying-joyfully-a-buddhist-perspective-on
DTSTART:20210501T140000Z
DTEND:20210501T170000Z
CATEGORIES:meditation, wellness, spirituality, buddhist
LOCATION:Kadampa Meditation Center Philadelphia Livestream
WEBSITE:https://www.meditationinphiladelphia.org/living-meaningfullydy
 ingjoyfully/
URL:https://www.meditationinphiladelphia.org/living-meaningfullydyingj
 oyfully/
CONTACT:267-702-3817
ORGANIZER;CN="Education Program Coordinator":http://phillytodo.com/pro
 file/EducationProgramCoordinator
ATTACH;FMTTYPE="image/jpeg":https://storage.ning.com/topology/rest/1.0
 /file/get/8782685270?profile=original
ATTENDEE;ROLE=REQ-PARTICIPANT;PARTSTAT=ACCEPTED;RSVP=TRUE;CN="Educatio
 n Program Coordinator":http://phillytodo.com/profile/EducationProgramC
 oordinator
END:VEVENT
END:VCALENDAR
